Package: ggbio Version: 1.50.0 Command: chmod a+r ggbio -R && F:\biocbuild\bbs-3.18-bioc\R\bin\R.exe CMD build --keep-empty-dirs --no-resave-data ggbio StartedAt: 2024-04-15 18:46:09 -0400 (Mon, 15 Apr 2024) EndedAt: 2024-04-15 18:52:53 -0400 (Mon, 15 Apr 2024) EllapsedTime: 404.1 seconds RetCode: 0 Status: OK PackageFile: ggbio_1.50.0.tar.gz PackageFileSize: 3.103 MiB