Package: ggbio Version: 1.50.0 Command: /Library/Frameworks/R.framework/Resources/bin/R CMD check --install=check:ggbio.install-out.txt --library=/Library/Frameworks/R.framework/Resources/library --no-vignettes --timings ggbio_1.50.0.tar.gz StartedAt: 2024-04-16 03:25:12 -0400 (Tue, 16 Apr 2024) EndedAt: 2024-04-16 03:46:19 -0400 (Tue, 16 Apr 2024) EllapsedTime: 1267.0 seconds RetCode: 0 Status: WARNINGS CheckDir: ggbio.Rcheck Warnings: 2