Package: ggbio Version: 1.50.0 Command: /home/biocbuild/R/R-4.3.1/bin/R CMD INSTALL ggbio StartedAt: 2023-11-01 20:37:32 -0000 (Wed, 01 Nov 2023) EndedAt: 2023-11-01 20:38:53 -0000 (Wed, 01 Nov 2023) EllapsedTime: 81.5 seconds RetCode: 0 Status: OK