Package: gg4way Version: 1.0.2 Command: F:\biocbuild\bbs-3.18-bioc\R\bin\R.exe CMD INSTALL gg4way StartedAt: 2024-04-15 15:56:28 -0400 (Mon, 15 Apr 2024) EndedAt: 2024-04-15 15:57:07 -0400 (Mon, 15 Apr 2024) EllapsedTime: 39.4 seconds RetCode: 0 Status: OK