Package: gg4way Version: 1.0.2 Command: F:\biocbuild\bbs-3.18-bioc\R\bin\R.exe CMD check --no-multiarch --install=check:gg4way.install-out.txt --library=F:\biocbuild\bbs-3.18-bioc\R\library --no-vignettes --timings gg4way_1.0.2.tar.gz StartedAt: 2024-04-16 01:14:11 -0400 (Tue, 16 Apr 2024) EndedAt: 2024-04-16 01:17:38 -0400 (Tue, 16 Apr 2024) EllapsedTime: 206.5 seconds RetCode: 0 Status: OK CheckDir: gg4way.Rcheck Warnings: 0