Package: gg4way Version: 1.0.2 Command: chmod a+r gg4way -R && F:\biocbuild\bbs-3.18-bioc\R\bin\R.exe CMD build --keep-empty-dirs --no-resave-data gg4way StartedAt: 2024-04-15 18:46:07 -0400 (Mon, 15 Apr 2024) EndedAt: 2024-04-15 18:48:29 -0400 (Mon, 15 Apr 2024) EllapsedTime: 141.8 seconds RetCode: 0 Status: OK PackageFile: gg4way_1.0.2.tar.gz PackageFileSize: 2.702 MiB