Package: gg4way Version: 1.0.2 Command: /home/biocbuild/bbs-3.18-bioc/R/bin/R CMD check --install=check:gg4way.install-out.txt --library=/home/biocbuild/bbs-3.18-bioc/R/site-library --timings gg4way_1.0.2.tar.gz StartedAt: 2024-04-15 23:15:58 -0400 (Mon, 15 Apr 2024) EndedAt: 2024-04-15 23:20:57 -0400 (Mon, 15 Apr 2024) EllapsedTime: 299.2 seconds RetCode: 0 Status: OK CheckDir: gg4way.Rcheck Warnings: 0