Package: gg4way Version: 1.0.2 Command: /home/biocbuild/bbs-3.18-bioc/R/bin/R CMD build --keep-empty-dirs --no-resave-data gg4way StartedAt: 2024-04-15 17:16:37 -0400 (Mon, 15 Apr 2024) EndedAt: 2024-04-15 17:18:02 -0400 (Mon, 15 Apr 2024) EllapsedTime: 84.7 seconds RetCode: 0 Status: OK PackageFile: gg4way_1.0.2.tar.gz PackageFileSize: 3.319 MiB