Package: gg4way Version: 1.0.2 Command: /Library/Frameworks/R.framework/Resources/bin/R CMD INSTALL gg4way StartedAt: 2024-03-03 15:13:43 -0500 (Sun, 03 Mar 2024) EndedAt: 2024-03-03 15:14:19 -0500 (Sun, 03 Mar 2024) EllapsedTime: 35.7 seconds RetCode: 0 Status: OK