Package: gg4way Version: 1.0.2 Command: rm -rf gg4way.buildbin-libdir && mkdir gg4way.buildbin-libdir && /Users/biocbuild/BBS/utils/build-universal.sh gg4way_1.0.2.tar.gz /Library/Frameworks/R.framework/Resources/bin/R gg4way.buildbin-libdir StartedAt: 2024-03-04 00:43:31 -0500 (Mon, 04 Mar 2024) EndedAt: 2024-03-04 00:44:10 -0500 (Mon, 04 Mar 2024) EllapsedTime: 38.8 seconds RetCode: 0 Status: OK PackageFile: gg4way_1.0.2.tgz PackageFileSize: 3.42 MiB