Package: gg4way Version: 1.0.0 Command: /home/biocbuild/R/R-4.3.1/bin/R CMD INSTALL gg4way StartedAt: 2023-11-01 20:20:54 -0000 (Wed, 01 Nov 2023) EndedAt: 2023-11-01 20:21:31 -0000 (Wed, 01 Nov 2023) EllapsedTime: 37.2 seconds RetCode: 0 Status: OK