Package: gg4way Version: 1.0.0 Command: /home/biocbuild/R/R-4.3.1/bin/R CMD check --install=check:gg4way.install-out.txt --library=/home/biocbuild/R/R-4.3.1/site-library --no-vignettes --timings gg4way_1.0.0.tar.gz StartedAt: 2023-11-02 10:56:25 -0000 (Thu, 02 Nov 2023) EndedAt: 2023-11-02 11:00:41 -0000 (Thu, 02 Nov 2023) EllapsedTime: 256.1 seconds RetCode: 0 Status: OK CheckDir: gg4way.Rcheck Warnings: 0