Package: getDEE2 Version: 1.12.0 Command: /home/biocbuild/bbs-3.18-bioc/R/bin/R CMD check --install=check:getDEE2.install-out.txt --library=/home/biocbuild/bbs-3.18-bioc/R/site-library --timings getDEE2_1.12.0.tar.gz StartedAt: 2024-04-15 23:15:36 -0400 (Mon, 15 Apr 2024) EndedAt: 2024-04-15 23:25:53 -0400 (Mon, 15 Apr 2024) EllapsedTime: 617.2 seconds RetCode: 0 Status: OK CheckDir: getDEE2.Rcheck Warnings: 0