Package: getDEE2 Version: 1.12.0 Command: /home/biocbuild/bbs-3.18-bioc/R/bin/R CMD build --keep-empty-dirs --no-resave-data getDEE2 StartedAt: 2024-04-15 17:16:36 -0400 (Mon, 15 Apr 2024) EndedAt: 2024-04-15 17:18:29 -0400 (Mon, 15 Apr 2024) EllapsedTime: 113.8 seconds RetCode: 0 Status: OK PackageFile: getDEE2_1.12.0.tar.gz PackageFileSize: 21.72 KiB