Package: genomicInstability Version: 1.8.0 Command: rm -rf genomicInstability.buildbin-libdir && mkdir genomicInstability.buildbin-libdir && F:\biocbuild\bbs-3.18-bioc\R\bin\R.exe CMD INSTALL --build --library=genomicInstability.buildbin-libdir genomicInstability_1.8.0.tar.gz StartedAt: 2024-04-16 07:03:59 -0400 (Tue, 16 Apr 2024) EndedAt: 2024-04-16 07:04:33 -0400 (Tue, 16 Apr 2024) EllapsedTime: 34.6 seconds RetCode: 0 Status: OK PackageFile: genomicInstability_1.8.0.zip PackageFileSize: 1.089 MiB