Package: geneplast Version: 1.28.0 Command: rm -rf geneplast.buildbin-libdir && mkdir geneplast.buildbin-libdir && /Users/biocbuild/BBS/utils/build-universal.sh geneplast_1.28.0.tar.gz /Library/Frameworks/R.framework/Resources/bin/R geneplast.buildbin-libdir StartedAt: 2024-03-04 00:42:44 -0500 (Mon, 04 Mar 2024) EndedAt: 2024-03-04 00:42:54 -0500 (Mon, 04 Mar 2024) EllapsedTime: 10.4 seconds RetCode: 0 Status: OK PackageFile: geneplast_1.28.0.tgz PackageFileSize: 4.057 MiB