Package: geneXtendeR Version: 1.28.0 Command: /Library/Frameworks/R.framework/Resources/bin/R CMD INSTALL geneXtendeR StartedAt: 2024-04-15 15:52:31 -0400 (Mon, 15 Apr 2024) EndedAt: 2024-04-15 15:54:15 -0400 (Mon, 15 Apr 2024) EllapsedTime: 104.0 seconds RetCode: 0 Status: OK