Package: geneXtendeR Version: 1.28.0 Command: rm -rf geneXtendeR.buildbin-libdir && mkdir geneXtendeR.buildbin-libdir && /Users/biocbuild/BBS/utils/build-universal.sh geneXtendeR_1.28.0.tar.gz /Library/Frameworks/R.framework/Resources/bin/R geneXtendeR.buildbin-libdir StartedAt: 2024-04-16 11:47:42 -0400 (Tue, 16 Apr 2024) EndedAt: 2024-04-16 11:50:11 -0400 (Tue, 16 Apr 2024) EllapsedTime: 149.1 seconds RetCode: 0 Status: OK PackageFile: geneXtendeR_1.28.0.tgz PackageFileSize: 8.509 MiB