Package: geneRecommender Version: 1.74.0 Command: rm -rf geneRecommender.buildbin-libdir && mkdir geneRecommender.buildbin-libdir && F:\biocbuild\bbs-3.18-bioc\R\bin\R.exe CMD INSTALL --build --library=geneRecommender.buildbin-libdir geneRecommender_1.74.0.tar.gz StartedAt: 2024-04-16 07:03:21 -0400 (Tue, 16 Apr 2024) EndedAt: 2024-04-16 07:03:30 -0400 (Tue, 16 Apr 2024) EllapsedTime: 8.5 seconds RetCode: 0 Status: OK PackageFile: geneRecommender_1.74.0.zip PackageFileSize: 151.4 KiB