Package: geneClassifiers Version: 1.26.0 Command: /Library/Frameworks/R.framework/Resources/bin/R CMD build --keep-empty-dirs --no-resave-data geneClassifiers StartedAt: 2024-04-15 18:51:50 -0400 (Mon, 15 Apr 2024) EndedAt: 2024-04-15 18:52:20 -0400 (Mon, 15 Apr 2024) EllapsedTime: 30.8 seconds RetCode: 0 Status: OK PackageFile: geneClassifiers_1.26.0.tar.gz PackageFileSize: 1.847 MiB