Package: geneClassifiers Version: 1.26.0 Command: /Library/Frameworks/R.framework/Resources/bin/R CMD build --keep-empty-dirs --no-resave-data geneClassifiers StartedAt: 2024-03-03 16:48:53 -0500 (Sun, 03 Mar 2024) EndedAt: 2024-03-03 16:49:15 -0500 (Sun, 03 Mar 2024) EllapsedTime: 22.6 seconds RetCode: 0 Status: OK PackageFile: geneClassifiers_1.26.0.tar.gz PackageFileSize: 1.847 MiB