Package: genbankr Version: 1.30.0 Command: /home/biocbuild/R/R-4.3.1/bin/R CMD build --keep-empty-dirs --no-resave-data genbankr StartedAt: 2023-11-02 01:20:51 -0000 (Thu, 02 Nov 2023) EndedAt: 2023-11-02 01:22:15 -0000 (Thu, 02 Nov 2023) EllapsedTime: 84.1 seconds RetCode: 1 Status: ERROR PackageFile: None PackageFileSize: NA