Package: genArise Version: 1.78.0 Command: /home/biocbuild/bbs-3.18-bioc/R/bin/R CMD INSTALL genArise StartedAt: 2024-04-15 15:08:48 -0400 (Mon, 15 Apr 2024) EndedAt: 2024-04-15 15:09:09 -0400 (Mon, 15 Apr 2024) EllapsedTime: 20.5 seconds RetCode: 0 Status: OK