Package: genArise Version: 1.78.0 Command: /Library/Frameworks/R.framework/Resources/bin/R CMD check --install=check:genArise.install-out.txt --library=/Library/Frameworks/R.framework/Resources/library --no-vignettes --timings genArise_1.78.0.tar.gz StartedAt: 2024-03-03 20:45:18 -0500 (Sun, 03 Mar 2024) EndedAt: 2024-03-03 20:46:08 -0500 (Sun, 03 Mar 2024) EllapsedTime: 51.0 seconds RetCode: 0 Status: WARNINGS CheckDir: genArise.Rcheck Warnings: 1