Package: genArise Version: 1.78.0 Command: /home/biocbuild/R/R-4.3.1/bin/R CMD check --install=check:genArise.install-out.txt --library=/home/biocbuild/R/R-4.3.1/site-library --no-vignettes --timings genArise_1.78.0.tar.gz StartedAt: 2023-11-02 10:44:49 -0000 (Thu, 02 Nov 2023) EndedAt: 2023-11-02 10:45:26 -0000 (Thu, 02 Nov 2023) EllapsedTime: 37.1 seconds RetCode: 0 Status: WARNINGS CheckDir: genArise.Rcheck Warnings: 1