Package: gemma.R Version: 2.0.0 Command: rm -rf gemma.R.buildbin-libdir && mkdir gemma.R.buildbin-libdir && F:\biocbuild\bbs-3.18-bioc\R\bin\R.exe CMD INSTALL --build --library=gemma.R.buildbin-libdir gemma.R_2.0.0.tar.gz StartedAt: 2024-01-17 08:51:20 -0500 (Wed, 17 Jan 2024) EndedAt: 2024-01-17 08:51:30 -0500 (Wed, 17 Jan 2024) EllapsedTime: 10.6 seconds RetCode: 0 Status: OK PackageFile: gemma.R_2.0.0.zip PackageFileSize: 1.185 MiB