Package: gemma.R Version: 2.0.0 Command: /Library/Frameworks/R.framework/Resources/bin/R CMD build --keep-empty-dirs --no-resave-data gemma.R StartedAt: 2024-04-15 18:51:33 -0400 (Mon, 15 Apr 2024) EndedAt: 2024-04-15 18:56:39 -0400 (Mon, 15 Apr 2024) EllapsedTime: 305.8 seconds RetCode: 1 Status: ERROR PackageFile: None PackageFileSize: NA