Package: gemma.R Version: 2.0.0 Command: /Library/Frameworks/R.framework/Resources/bin/R CMD INSTALL gemma.R StartedAt: 2024-03-03 15:11:19 -0500 (Sun, 03 Mar 2024) EndedAt: 2024-03-03 15:11:27 -0500 (Sun, 03 Mar 2024) EllapsedTime: 7.7 seconds RetCode: 0 Status: OK