Package: geNetClassifier Version: 1.42.0 Command: /home/biocbuild/bbs-3.18-bioc/R/bin/R CMD INSTALL geNetClassifier StartedAt: 2024-04-15 15:44:47 -0400 (Mon, 15 Apr 2024) EndedAt: 2024-04-15 15:44:56 -0400 (Mon, 15 Apr 2024) EllapsedTime: 8.7 seconds RetCode: 0 Status: OK