Package: gdsfmt Version: 1.38.0 Command: /home/biocbuild/bbs-3.18-bioc/R/bin/R CMD INSTALL gdsfmt StartedAt: 2024-04-15 15:05:45 -0400 (Mon, 15 Apr 2024) EndedAt: 2024-04-15 15:09:11 -0400 (Mon, 15 Apr 2024) EllapsedTime: 206.4 seconds RetCode: 0 Status: OK