Package: gdsfmt Version: 1.38.0 Command: /home/biocbuild/bbs-3.18-bioc/R/bin/R CMD check --install=check:gdsfmt.install-out.txt --library=/home/biocbuild/bbs-3.18-bioc/R/site-library --timings gdsfmt_1.38.0.tar.gz StartedAt: 2024-04-15 23:00:01 -0400 (Mon, 15 Apr 2024) EndedAt: 2024-04-15 23:02:09 -0400 (Mon, 15 Apr 2024) EllapsedTime: 127.6 seconds RetCode: 0 Status: OK CheckDir: gdsfmt.Rcheck Warnings: 0