Package: gdsfmt Version: 1.38.0 Command: /home/biocbuild/bbs-3.18-bioc/R/bin/R CMD build --keep-empty-dirs --no-resave-data gdsfmt StartedAt: 2024-04-15 17:11:07 -0400 (Mon, 15 Apr 2024) EndedAt: 2024-04-15 17:14:37 -0400 (Mon, 15 Apr 2024) EllapsedTime: 209.5 seconds RetCode: 0 Status: OK PackageFile: gdsfmt_1.38.0.tar.gz PackageFileSize: 2.796 MiB