Package: gdsfmt Version: 1.38.0 Command: /home/biocbuild/R/R-4.3.1/bin/R CMD build --keep-empty-dirs --no-resave-data gdsfmt StartedAt: 2023-11-02 01:20:26 -0000 (Thu, 02 Nov 2023) EndedAt: 2023-11-02 01:25:42 -0000 (Thu, 02 Nov 2023) EllapsedTime: 316.4 seconds RetCode: 0 Status: OK PackageFile: gdsfmt_1.38.0.tar.gz PackageFileSize: 2.817 MiB