Package: gcatest Version: 2.2.0 Command: rm -rf gcatest.buildbin-libdir && mkdir gcatest.buildbin-libdir && /Users/biocbuild/BBS/utils/build-universal.sh gcatest_2.2.0.tar.gz /Library/Frameworks/R.framework/Resources/bin/R gcatest.buildbin-libdir StartedAt: 2024-04-16 11:45:26 -0400 (Tue, 16 Apr 2024) EndedAt: 2024-04-16 11:45:40 -0400 (Tue, 16 Apr 2024) EllapsedTime: 13.9 seconds RetCode: 0 Status: OK PackageFile: gcatest_2.2.0.tgz PackageFileSize: 3.356 MiB