Package: gcapc Version: 1.26.0 Command: /home/biocbuild/bbs-3.18-bioc/R/bin/R CMD INSTALL gcapc StartedAt: 2024-04-15 15:20:22 -0400 (Mon, 15 Apr 2024) EndedAt: 2024-04-15 15:20:55 -0400 (Mon, 15 Apr 2024) EllapsedTime: 32.8 seconds RetCode: 0 Status: OK