Package: gcapc Version: 1.26.0 Command: /home/biocbuild/R/R-4.3.1/bin/R CMD INSTALL gcapc StartedAt: 2023-11-01 20:25:04 -0000 (Wed, 01 Nov 2023) EndedAt: 2023-11-01 20:25:49 -0000 (Wed, 01 Nov 2023) EllapsedTime: 44.9 seconds RetCode: 0 Status: OK