Package: gatom Version: 1.0.0 Command: rm -rf gatom.buildbin-libdir && mkdir gatom.buildbin-libdir && F:\biocbuild\bbs-3.18-bioc\R\bin\R.exe CMD INSTALL --build --library=gatom.buildbin-libdir gatom_1.0.0.tar.gz StartedAt: 2024-04-16 07:02:23 -0400 (Tue, 16 Apr 2024) EndedAt: 2024-04-16 07:02:49 -0400 (Tue, 16 Apr 2024) EllapsedTime: 26.4 seconds RetCode: 0 Status: OK PackageFile: gatom_1.0.0.zip PackageFileSize: 1.784 MiB