Package: gatom Version: 1.0.0 Command: /Library/Frameworks/R.framework/Resources/bin/R CMD build --keep-empty-dirs --no-resave-data gatom StartedAt: 2024-03-03 16:47:15 -0500 (Sun, 03 Mar 2024) EndedAt: 2024-03-03 16:53:56 -0500 (Sun, 03 Mar 2024) EllapsedTime: 401.0 seconds RetCode: 0 Status: OK PackageFile: gatom_1.0.0.tar.gz PackageFileSize: 1.61 MiB