Package: gatom Version: 1.0.0 Command: rm -rf gatom.buildbin-libdir && mkdir gatom.buildbin-libdir && /Users/biocbuild/BBS/utils/build-universal.sh gatom_1.0.0.tar.gz /Library/Frameworks/R.framework/Resources/bin/R gatom.buildbin-libdir StartedAt: 2024-03-04 00:42:12 -0500 (Mon, 04 Mar 2024) EndedAt: 2024-03-04 00:42:39 -0500 (Mon, 04 Mar 2024) EllapsedTime: 27.2 seconds RetCode: 0 Status: OK PackageFile: gatom_1.0.0.tgz PackageFileSize: 1.787 MiB