Package: garfield Version: 1.30.0 Command: /Library/Frameworks/R.framework/Resources/bin/R CMD build --keep-empty-dirs --no-resave-data garfield StartedAt: 2024-04-15 18:48:38 -0400 (Mon, 15 Apr 2024) EndedAt: 2024-04-15 18:49:07 -0400 (Mon, 15 Apr 2024) EllapsedTime: 29.1 seconds RetCode: 0 Status: OK PackageFile: garfield_1.30.0.tar.gz PackageFileSize: 305.1 KiB