Package: gDNAx Version: 1.0.2 Command: /home/biocbuild/bbs-3.18-bioc/R/bin/R CMD check --install=check:gDNAx.install-out.txt --library=/home/biocbuild/bbs-3.18-bioc/R/site-library --timings gDNAx_1.0.2.tar.gz StartedAt: 2024-04-15 22:58:36 -0400 (Mon, 15 Apr 2024) EndedAt: 2024-04-15 23:14:07 -0400 (Mon, 15 Apr 2024) EllapsedTime: 931.2 seconds RetCode: 0 Status: OK CheckDir: gDNAx.Rcheck Warnings: 0