Package: gDNAx Version: 1.0.2 Command: /Library/Frameworks/R.framework/Resources/bin/R CMD INSTALL gDNAx StartedAt: 2024-04-15 16:43:11 -0400 (Mon, 15 Apr 2024) EndedAt: 2024-04-15 16:44:41 -0400 (Mon, 15 Apr 2024) EllapsedTime: 90.7 seconds RetCode: 0 Status: OK