Package: gDNAx Version: 1.0.2 Command: /Library/Frameworks/R.framework/Resources/bin/R CMD build --keep-empty-dirs --no-resave-data gDNAx StartedAt: 2024-04-15 18:49:51 -0400 (Mon, 15 Apr 2024) EndedAt: 2024-04-15 18:56:58 -0400 (Mon, 15 Apr 2024) EllapsedTime: 426.3 seconds RetCode: 0 Status: OK PackageFile: gDNAx_1.0.2.tar.gz PackageFileSize: 724.4 KiB