Package: gDNAx Version: 1.0.2 Command: rm -rf gDNAx.buildbin-libdir && mkdir gDNAx.buildbin-libdir && /Users/biocbuild/BBS/utils/build-universal.sh gDNAx_1.0.2.tar.gz /Library/Frameworks/R.framework/Resources/bin/R gDNAx.buildbin-libdir StartedAt: 2024-04-16 11:45:40 -0400 (Tue, 16 Apr 2024) EndedAt: 2024-04-16 11:48:00 -0400 (Tue, 16 Apr 2024) EllapsedTime: 140.0 seconds RetCode: 0 Status: OK PackageFile: gDNAx_1.0.2.tgz PackageFileSize: 1.066 MiB