Package: gDNAx Version: 1.0.1 Command: /Library/Frameworks/R.framework/Resources/bin/R CMD build --keep-empty-dirs --no-resave-data gDNAx StartedAt: 2024-03-03 16:47:48 -0500 (Sun, 03 Mar 2024) EndedAt: 2024-03-03 16:51:58 -0500 (Sun, 03 Mar 2024) EllapsedTime: 249.5 seconds RetCode: 0 Status: OK PackageFile: gDNAx_1.0.1.tar.gz PackageFileSize: 697 KiB