Package: gCrisprTools Version: 2.8.0 Command: rm -rf gCrisprTools.buildbin-libdir && mkdir gCrisprTools.buildbin-libdir && F:\biocbuild\bbs-3.18-bioc\R\bin\R.exe CMD INSTALL --build --library=gCrisprTools.buildbin-libdir gCrisprTools_2.8.0.tar.gz StartedAt: 2024-04-16 07:02:29 -0400 (Tue, 16 Apr 2024) EndedAt: 2024-04-16 07:03:13 -0400 (Tue, 16 Apr 2024) EllapsedTime: 43.5 seconds RetCode: 0 Status: OK PackageFile: gCrisprTools_2.8.0.zip PackageFileSize: 3.314 MiB