Package: funtooNorm Version: 1.26.0 Command: /Library/Frameworks/R.framework/Resources/bin/R CMD INSTALL funtooNorm StartedAt: 2024-03-03 15:42:36 -0500 (Sun, 03 Mar 2024) EndedAt: 2024-03-03 15:43:40 -0500 (Sun, 03 Mar 2024) EllapsedTime: 63.4 seconds RetCode: 0 Status: OK