Package: frma Version: 1.54.0 Command: /Library/Frameworks/R.framework/Resources/bin/R CMD build --keep-empty-dirs --no-resave-data frma StartedAt: 2024-03-03 16:46:24 -0500 (Sun, 03 Mar 2024) EndedAt: 2024-03-03 16:47:45 -0500 (Sun, 03 Mar 2024) EllapsedTime: 80.5 seconds RetCode: 0 Status: OK PackageFile: frma_1.54.0.tar.gz PackageFileSize: 287.4 KiB