Package: frenchFISH Version: 1.14.0 Command: /Library/Frameworks/R.framework/Resources/bin/R CMD check --install=check:frenchFISH.install-out.txt --library=/Library/Frameworks/R.framework/Resources/library --no-vignettes --timings frenchFISH_1.14.0.tar.gz StartedAt: 2024-04-16 02:58:31 -0400 (Tue, 16 Apr 2024) EndedAt: 2024-04-16 02:59:15 -0400 (Tue, 16 Apr 2024) EllapsedTime: 44.1 seconds RetCode: 0 Status: OK CheckDir: frenchFISH.Rcheck Warnings: 0