Package: frenchFISH Version: 1.14.0 Command: /Library/Frameworks/R.framework/Resources/bin/R CMD build --keep-empty-dirs --no-resave-data frenchFISH StartedAt: 2024-04-15 18:46:44 -0400 (Mon, 15 Apr 2024) EndedAt: 2024-04-15 18:46:56 -0400 (Mon, 15 Apr 2024) EllapsedTime: 11.9 seconds RetCode: 0 Status: OK PackageFile: frenchFISH_1.14.0.tar.gz PackageFileSize: 21.01 KiB